BEGIN:VCALENDAR
VERSION:2.0
PRODID:SchoolNow
CALSCALE:GREGORIAN
BEGIN:VEVENT
UID:5ccdb20e-0a69-11f0-84c5-02f8af50d4bd
DTSTAMP:20260421T070010Z
SUMMARY:Cognitive Coaching Day 8
LOCATION:Community Consolidated School District 21\, 959 W Dundee Rd\, Whee
 ling\, IL 60090\, USA
URL;VALUE=URI:https://www.nsseo.org/professional-learning/calendar/7779473/
 cognitive-coaching-day-8
DTSTART:20260402T133000Z
DTEND:20260402T203000Z
END:VEVENT
END:VCALENDAR
