BEGIN:VCALENDAR
VERSION:2.0
PRODID:SchoolNow
CALSCALE:GREGORIAN
BEGIN:VEVENT
UID:d834875e-4652-11f0-8e40-0ea7ff1b3979
DTSTAMP:20260421T130510Z
SUMMARY:Creating Trauma Informed Classrooms
LOCATION:Mount Prospect Fire Department Station 14\, 2000 Kensington Rd\, M
 t Prospect\, IL 60056\, USA
URL;VALUE=URI:https://www.nsseo.org/professional-learning/calendar/8283402/
 creating-trauma-informed-classrooms
DTSTART:20260202T140000Z
DTEND:20260202T180000Z
END:VEVENT
END:VCALENDAR
