BEGIN:VCALENDAR
VERSION:2.0
PRODID:SchoolNow
CALSCALE:GREGORIAN
BEGIN:VEVENT
UID:d8348844-4652-11f0-8502-0ea7ff1b3979
DTSTAMP:20260421T130510Z
SUMMARY:NVCI Initial Training Day 1
LOCATION:Mount Prospect Fire Department Station 14\, 2000 Kensington Rd\, M
 t Prospect\, IL 60056\, USA
URL;VALUE=URI:https://www.nsseo.org/professional-learning/calendar/8283403/
 nvci-initial-training-day-1
DTSTART:20260203T143000Z
DTEND:20260203T213000Z
END:VEVENT
END:VCALENDAR
