BEGIN:VCALENDAR
VERSION:2.0
PRODID:SchoolNow
CALSCALE:GREGORIAN
BEGIN:VEVENT
UID:d834892a-4652-11f0-a440-0ea7ff1b3979
DTSTAMP:20260421T130510Z
SUMMARY:NVCI Initial Training Day 2
LOCATION:Mount Prospect Fire Department Station 14\, 2000 Kensington Rd\, M
 t Prospect\, IL 60056\, USA
URL;VALUE=URI:https://www.nsseo.org/professional-learning/calendar/8283404/
 nvci-initial-training-day-2
DTSTART:20260204T143000Z
DTEND:20260204T163000Z
END:VEVENT
END:VCALENDAR
