BEGIN:VCALENDAR
VERSION:2.0
PRODID:SchoolNow
CALSCALE:GREGORIAN
BEGIN:VEVENT
UID:d8348c04-4652-11f0-8295-0ea7ff1b3979
DTSTAMP:20260421T070010Z
SUMMARY:NVCI Initial Training Day 2
LOCATION:Mount Prospect Fire Department Station 14\, 2000 Kensington Rd\, M
 t Prospect\, IL 60056\, USA
URL;VALUE=URI:https://www.nsseo.org/professional-learning/calendar/8283407/
 nvci-initial-training-day-2
DTSTART:20260422T133000Z
DTEND:20260422T153000Z
END:VEVENT
END:VCALENDAR
