BEGIN:VCALENDAR
VERSION:2.0
PRODID:SchoolNow
CALSCALE:GREGORIAN
BEGIN:VEVENT
UID:d8348eac-4652-11f0-9398-0ea7ff1b3979
DTSTAMP:20260421T130510Z
SUMMARY:NVCI Refresher Training
LOCATION:Mount Prospect Fire Department Station 14\, 2000 Kensington Rd\, M
 t Prospect\, IL 60056\, USA
URL;VALUE=URI:https://www.nsseo.org/professional-learning/calendar/8283410/
 nvci-refresher-training
DTSTART:20260204T173000Z
DTEND:20260204T213000Z
END:VEVENT
END:VCALENDAR
