BEGIN:VCALENDAR
VERSION:2.0
PRODID:SchoolNow
CALSCALE:GREGORIAN
BEGIN:VEVENT
UID:d06d3eb4-46eb-11f0-b205-02499b9216bb
DTSTAMP:20260421T130510Z
SUMMARY:D25 RTO NVCI and Creating Trauma Training
LOCATION:Arlington Heights School District 25\, 1200 S Dunton Ave\, Arlingt
 on Heights\, IL 60005\, USA
URL;VALUE=URI:https://www.nsseo.org/professional-learning/calendar/8287789/
 d25-rto-nvci-and-creating-trauma-training
DTSTART:20260310T130000Z
DTEND:20260310T213000Z
END:VEVENT
END:VCALENDAR
