BEGIN:VCALENDAR
VERSION:2.0
PRODID:SchoolNow
CALSCALE:GREGORIAN
BEGIN:VEVENT
UID:d08d4e7a-46eb-11f0-96b3-02499b9216bb
DTSTAMP:20260421T130510Z
SUMMARY:D25 RTO NVCI and Creating Trauma Training
LOCATION:Arlington Heights School District 25\, 1200 S Dunton Ave\, Arlingt
 on Heights\, IL 60005\, USA
URL;VALUE=URI:https://www.nsseo.org/professional-learning/calendar/8287790/
 d25-rto-nvci-and-creating-trauma-training
DTSTART:20260407T130000Z
DTEND:20260407T213000Z
END:VEVENT
END:VCALENDAR
