BEGIN:VCALENDAR
VERSION:2.0
PRODID:SchoolNow
CALSCALE:GREGORIAN
BEGIN:VEVENT
UID:b049f8dc-672c-11f0-94ec-0a58a9feac02
DTSTAMP:20260421T070010Z
SUMMARY:NSSEO Mentor and Mentee Collaboration
LOCATION:NSSEO-Northwest Suburban Special Education Organization: Timber Ri
 dge\, 201 S Evanston Ave\, Arlington Heights\, IL 60004\, USA
URL;VALUE=URI:https://www.nsseo.org/professional-learning/calendar/8438238/
 nsseo-mentor-and-mentee-collaboration
DTSTART:20260211T214500Z
DTEND:20260211T231500Z
END:VEVENT
END:VCALENDAR
