BEGIN:VCALENDAR
VERSION:2.0
PRODID:SchoolNow
CALSCALE:GREGORIAN
BEGIN:VEVENT
UID:b049f9ea-672c-11f0-844e-0a58a9feac02
DTSTAMP:20260421T130510Z
SUMMARY:NSSEO Mentor and Mentee Collaboration
LOCATION:NSSEO-Northwest Suburban Special Education Organization: Timber Ri
 dge\, 201 S Evanston Ave\, Arlington Heights\, IL 60004\, USA
URL;VALUE=URI:https://www.nsseo.org/professional-learning/calendar/8438239/
 nsseo-mentor-and-mentee-collaboration
DTSTART:20260513T204500Z
DTEND:20260513T221500Z
END:VEVENT
END:VCALENDAR
