BEGIN:VCALENDAR
VERSION:2.0
PRODID:SchoolNow
CALSCALE:GREGORIAN
BEGIN:VEVENT
UID:720be8f6-6bf4-11f0-aa62-0a58a9feac02
DTSTAMP:20260421T130510Z
SUMMARY:District 214 Adaptive Schools
LOCATION:Forest View Educational Center\, 2121 S Goebbert Rd\, Arlington He
 ights\, IL 60005\, USA
URL;VALUE=URI:https://www.nsseo.org/professional-learning/calendar/8453470/
 district-214-adaptive-schools
DTSTART:20260112T140000Z
DTEND:20260112T210000Z
END:VEVENT
END:VCALENDAR
