BEGIN:VCALENDAR
VERSION:2.0
PRODID:SchoolNow
CALSCALE:GREGORIAN
BEGIN:VEVENT
UID:d757de26-77b2-11f0-bb56-0a58a9feac02
DTSTAMP:20260421T130510Z
SUMMARY:Adaptive Schools Day 3
LOCATION:Mount Prospect Fire Department Station 14\, 2000 Kensington Rd\, M
 t Prospect\, IL 60056\, USA
URL;VALUE=URI:https://www.nsseo.org/professional-learning/calendar/8495501/
 adaptive-schools-day-3
DTSTART:20260121T143000Z
DTEND:20260121T213000Z
END:VEVENT
END:VCALENDAR
