BEGIN:VCALENDAR
VERSION:2.0
PRODID:SchoolNow
CALSCALE:GREGORIAN
BEGIN:VEVENT
UID:d757df34-77b2-11f0-8100-0a58a9feac02
DTSTAMP:20260421T130510Z
SUMMARY:Adaptive Schools Day 4
LOCATION:Mount Prospect Fire Department Station 14\, 2000 Kensington Rd\, M
 t Prospect\, IL 60056\, USA
URL;VALUE=URI:https://www.nsseo.org/professional-learning/calendar/8495502/
 adaptive-schools-day-4
DTSTART:20260122T143000Z
DTEND:20260122T213000Z
END:VEVENT
END:VCALENDAR
