BEGIN:VCALENDAR
VERSION:2.0
PRODID:SchoolNow
CALSCALE:GREGORIAN
BEGIN:VEVENT
UID:54c9ae7c-9593-11f0-9769-0a58a9feac02
DTSTAMP:20260421T130510Z
SUMMARY:BCBA Job Alike - Meeting 2
LOCATION:Northwest Suburban Special Education Organization\, 799 W Kensingt
 on Rd\, Mt Prospect\, IL 60056\, USA
URL;VALUE=URI:https://www.nsseo.org/professional-learning/calendar/8644669/
 bcba-job-alike-meeting-2
DTSTART:20260206T190000Z
DTEND:20260206T210000Z
END:VEVENT
END:VCALENDAR
