BEGIN:VCALENDAR
VERSION:2.0
PRODID:SchoolNow
CALSCALE:GREGORIAN
BEGIN:VEVENT
UID:8663ea12-a54f-11f0-88a7-0a58a9feac02
DTSTAMP:20260421T130510Z
SUMMARY:NVCI Refresher Training - SLOEC
LOCATION:Sunrise Lake Outdoor Education Center\, 401 Illinois Rte 59\, Bart
 lett\, IL 60103\, USA
URL;VALUE=URI:https://www.nsseo.org/professional-learning/calendar/8709863/
 nvci-refresher-training-sloec
DTSTART:20260108T140000Z
DTEND:20260108T180000Z
END:VEVENT
END:VCALENDAR
