BEGIN:VCALENDAR
VERSION:2.0
PRODID:SchoolNow
CALSCALE:GREGORIAN
BEGIN:VEVENT
UID:74c0149e-a61b-11f0-acb4-0a58a9feac02
DTSTAMP:20260421T130510Z
SUMMARY:SLP/AT Job Alike - Meeting 3
LOCATION:Northwest Suburban Special Education Organization\, 799 W Kensingt
 on Rd\, Mt Prospect\, IL 60056\, USA
URL;VALUE=URI:https://www.nsseo.org/professional-learning/calendar/8712805/
 slp-at-job-alike-meeting-3
DTSTART:20260414T180000Z
DTEND:20260414T200000Z
END:VEVENT
END:VCALENDAR
