BEGIN:VCALENDAR
VERSION:2.0
PRODID:SchoolNow
CALSCALE:GREGORIAN
BEGIN:VEVENT
UID:74c015d4-a61b-11f0-bc27-0a58a9feac02
DTSTAMP:20260421T130510Z
SUMMARY:OT and PT Job Alike - Meeting 2
LOCATION:Northwest Suburban Special Education Organization\, 799 W Kensingt
 on Rd\, Mt Prospect\, IL 60056\, USA
URL;VALUE=URI:https://www.nsseo.org/professional-learning/calendar/8712806/
 ot-and-pt-job-alike-meeting-2
DTSTART:20260204T190000Z
DTEND:20260204T210000Z
END:VEVENT
END:VCALENDAR
