BEGIN:VCALENDAR
VERSION:2.0
PRODID:SchoolNow
CALSCALE:GREGORIAN
BEGIN:VEVENT
UID:74c016e2-a61b-11f0-9842-0a58a9feac02
DTSTAMP:20260421T130510Z
SUMMARY:OT and PT Job Alike - Meeting 3
LOCATION:Northwest Suburban Special Education Organization\, 799 W Kensingt
 on Rd\, Mt Prospect\, IL 60056\, USA
URL;VALUE=URI:https://www.nsseo.org/professional-learning/calendar/8712807/
 ot-and-pt-job-alike-meeting-3
DTSTART:20260414T140000Z
DTEND:20260414T160000Z
END:VEVENT
END:VCALENDAR
