BEGIN:VCALENDAR
VERSION:2.0
PRODID:SchoolNow
CALSCALE:GREGORIAN
BEGIN:VEVENT
UID:74c018f4-a61b-11f0-8db0-0a58a9feac02
DTSTAMP:20260421T130510Z
SUMMARY:BCBA Job Alike - Meeting 3
LOCATION:Northwest Suburban Special Education Organization\, 799 W Kensingt
 on Rd\, Mt Prospect\, IL 60056\, USA
URL;VALUE=URI:https://www.nsseo.org/professional-learning/calendar/8712809/
 bcba-job-alike-meeting-3
DTSTART:20260413T140000Z
DTEND:20260413T160000Z
END:VEVENT
END:VCALENDAR
