BEGIN:VCALENDAR
VERSION:2.0
PRODID:SchoolNow
CALSCALE:GREGORIAN
BEGIN:VEVENT
UID:74c01d90-a61b-11f0-899e-0a58a9feac02
DTSTAMP:20260421T130510Z
SUMMARY:Psych and SW Job Alike - Meeting 3
LOCATION:Northwest Suburban Special Education Organization\, 799 W Kensingt
 on Rd\, Mt Prospect\, IL 60056\, USA
URL;VALUE=URI:https://www.nsseo.org/professional-learning/calendar/8712814/
 psych-and-sw-job-alike-meeting-3
DTSTART:20260415T140000Z
DTEND:20260415T160000Z
END:VEVENT
END:VCALENDAR
