BEGIN:VCALENDAR
VERSION:2.0
PRODID:SchoolNow
CALSCALE:GREGORIAN
BEGIN:VEVENT
UID:3d5642d0-b458-11f0-ac4b-0e530bcdcf2d
DTSTAMP:20260421T130510Z
SUMMARY:NSSEO's January 5th Institute Day
LOCATION:Harper College\, 1200 Algonquin Rd\, Palatine\, IL 60067\, USA
URL;VALUE=URI:https://www.nsseo.org/professional-learning/calendar/8758094/
 nsseos-january-5th-institute-day
DTSTART:20260105T143000Z
DTEND:20260105T213000Z
END:VEVENT
END:VCALENDAR
