BEGIN:VCALENDAR
VERSION:2.0
PRODID:SchoolNow
CALSCALE:GREGORIAN
BEGIN:VEVENT
UID:afc422e0-c0e4-11f0-9c9c-02b95c45356f
DTSTAMP:20260421T130510Z
SUMMARY:NSSEO CPR Class - Timber Ridge
LOCATION:NSSEO-Northwest Suburban Special Education Organization: Timber Ri
 dge\, 201 S Evanston Ave\, Arlington Heights\, IL 60004\, USA
URL;VALUE=URI:https://www.nsseo.org/professional-learning/calendar/8794568/
 nsseo-cpr-class-timber-ridge
DTSTART:20260108T223000Z
DTEND:20260109T010000Z
END:VEVENT
END:VCALENDAR
