BEGIN:VCALENDAR
VERSION:2.0
PRODID:SchoolNow
CALSCALE:GREGORIAN
BEGIN:VEVENT
UID:afc4298e-c0e4-11f0-8e83-02b95c45356f
DTSTAMP:20260421T070010Z
SUMMARY:NSSEO CPR Class - Kirk
LOCATION:Kirk School\, 520 S Plum Grove Rd\, Palatine\, IL 60067\, USA
URL;VALUE=URI:https://www.nsseo.org/professional-learning/calendar/8794570/
 nsseo-cpr-class-kirk
DTSTART:20260210T210000Z
DTEND:20260210T233000Z
END:VEVENT
END:VCALENDAR
