BEGIN:VCALENDAR
VERSION:2.0
PRODID:SchoolNow
CALSCALE:GREGORIAN
BEGIN:VEVENT
UID:afc42c90-c0e4-11f0-9c29-02b95c45356f
DTSTAMP:20260421T070010Z
SUMMARY:NSSEO CPR Class - Timber Ridge
LOCATION:NSSEO-Northwest Suburban Special Education Organization: Timber Ri
 dge\, 201 S Evanston Ave\, Arlington Heights\, IL 60004\, USA
URL;VALUE=URI:https://www.nsseo.org/professional-learning/calendar/8794571/
 nsseo-cpr-class-timber-ridge
DTSTART:20260423T213000Z
DTEND:20260424T000000Z
END:VEVENT
END:VCALENDAR
