BEGIN:VCALENDAR
VERSION:2.0
PRODID:SchoolNow
CALSCALE:GREGORIAN
BEGIN:VEVENT
UID:afc4301e-c0e4-11f0-9012-02b95c45356f
DTSTAMP:20260421T130510Z
SUMMARY:NSSEO CPR Class - Kirk
LOCATION:Kirk School\, 520 S Plum Grove Rd\, Palatine\, IL 60067\, USA
URL;VALUE=URI:https://www.nsseo.org/professional-learning/calendar/8794573/
 nsseo-cpr-class-kirk
DTSTART:20260512T200000Z
DTEND:20260512T223000Z
END:VEVENT
END:VCALENDAR
