BEGIN:VCALENDAR
VERSION:2.0
PRODID:SchoolNow
CALSCALE:GREGORIAN
BEGIN:VEVENT
UID:afc43230-c0e4-11f0-a6d2-02b95c45356f
DTSTAMP:20260421T070010Z
SUMMARY:NSSEO CPR Class - Miner
LOCATION:Miner School\, 1101 E Miner St\, Arlington Heights\, IL 60004\, US
 A
URL;VALUE=URI:https://www.nsseo.org/professional-learning/calendar/8794574/
 nsseo-cpr-class-miner
DTSTART:20260311T203000Z
DTEND:20260311T230000Z
END:VEVENT
END:VCALENDAR
