BEGIN:VCALENDAR
VERSION:2.0
PRODID:SchoolNow
CALSCALE:GREGORIAN
BEGIN:VEVENT
UID:ddecb978-d16c-11f0-b50e-0afffd975271
DTSTAMP:20260421T130510Z
SUMMARY:Transition Planning in the IEP
LOCATION:John Hersey High School\, Northwest Suburbs\, 1900 E Thomas St\, A
 rlington Heights\, IL 60004\, USA
URL;VALUE=URI:https://www.nsseo.org/professional-learning/calendar/8818098/
 transition-planning-in-the-iep
DTSTART:20260106T160000Z
DTEND:20260106T203000Z
END:VEVENT
END:VCALENDAR
