BEGIN:VCALENDAR
VERSION:2.0
PRODID:SchoolNow
CALSCALE:GREGORIAN
BEGIN:VEVENT
UID:9d9fb39e-d634-11f0-a06b-02026490ab79
DTSTAMP:20260421T130510Z
SUMMARY:NSSEO New Staff NVCI Training Day 1
URL;VALUE=URI:https://www.nsseo.org/professional-learning/calendar/8821634/
 nsseo-new-staff-nvci-training-day-1
DTSTART:20260126T140000Z
DTEND:20260126T203000Z
END:VEVENT
END:VCALENDAR
