BEGIN:VCALENDAR
VERSION:2.0
PRODID:SchoolNow
CALSCALE:GREGORIAN
BEGIN:VEVENT
UID:9d9fb6be-d634-11f0-9078-02026490ab79
DTSTAMP:20260421T130510Z
SUMMARY:NSSEO New Staff NVCI Training Day 2
URL;VALUE=URI:https://www.nsseo.org/professional-learning/calendar/8821635/
 nsseo-new-staff-nvci-training-day-2
DTSTART:20260127T140000Z
DTEND:20260127T180000Z
END:VEVENT
END:VCALENDAR
