BEGIN:VCALENDAR
VERSION:2.0
PRODID:SchoolNow
CALSCALE:GREGORIAN
BEGIN:VEVENT
UID:9d9fbb96-d634-11f0-9522-02026490ab79
DTSTAMP:20260421T130510Z
SUMMARY:NSSEO New Staff - Ukeru Training
LOCATION:NSSEO-Northwest Suburban Special Education Organization: Timber Ri
 dge\, 201 S Evanston Ave\, Arlington Heights\, IL 60004\, USA
URL;VALUE=URI:https://www.nsseo.org/professional-learning/calendar/8821636/
 nsseo-new-staff-ukeru-training
DTSTART:20260112T140000Z
DTEND:20260112T203000Z
END:VEVENT
END:VCALENDAR
