BEGIN:VCALENDAR
VERSION:2.0
PRODID:SchoolNow
CALSCALE:GREGORIAN
BEGIN:VEVENT
UID:fb0c8a6a-ec0b-11f0-9588-0a58a9feac02
DTSTAMP:20260421T130510Z
SUMMARY:Teachtown Materials Organization
LOCATION:Kirk School\, 520 S Plum Grove Rd\, Palatine\, IL 60067\, USA
URL;VALUE=URI:https://www.nsseo.org/professional-learning/calendar/8832499/
 teachtown-materials-organization
DTSTART:20260113T204500Z
DTEND:20260113T220000Z
END:VEVENT
END:VCALENDAR
