BEGIN:VCALENDAR
VERSION:2.0
PRODID:SchoolNow
CALSCALE:GREGORIAN
BEGIN:VEVENT
UID:fb0c9122-ec0b-11f0-b3ed-0a58a9feac02
DTSTAMP:20260421T130510Z
SUMMARY:Miner School - Literacy Onboarding for New Staff Session 4: Indepen
 dent Reading
LOCATION:Miner School\, 1101 E Miner St\, Arlington Heights\, IL 60004\, US
 A
URL;VALUE=URI:https://www.nsseo.org/professional-learning/calendar/8832500/
 miner-school-literacy-onboarding-for-new-staff-session-4-independent-readi
 ng
DTSTART:20260128T143000Z
DTEND:20260128T151500Z
END:VEVENT
END:VCALENDAR
