BEGIN:VCALENDAR
VERSION:2.0
PRODID:SchoolNow
CALSCALE:GREGORIAN
BEGIN:VEVENT
UID:fb52a2d4-ec0b-11f0-9e17-0a58a9feac02
DTSTAMP:20260421T130510Z
SUMMARY:Supporting Student Engagement and Responding to Behavior
LOCATION:John Hersey High School\, Northwest Suburbs\, 1900 E Thomas St\, A
 rlington Heights\, IL 60004\, USA
URL;VALUE=URI:https://www.nsseo.org/professional-learning/calendar/8832502/
 supporting-student-engagement-and-responding-to-behavior
DTSTART:20260106T140000Z
DTEND:20260106T160000Z
END:VEVENT
END:VCALENDAR
