BEGIN:VCALENDAR
VERSION:2.0
PRODID:SchoolNow
CALSCALE:GREGORIAN
BEGIN:VEVENT
UID:a57ee0fc-f007-11f0-922d-0a58a9feac02
DTSTAMP:20260421T130510Z
SUMMARY:NSSEO Advanced NVCI Refresher
LOCATION:NSSEO-Northwest Suburban Special Education Organization: Timber Ri
 dge\, 201 S Evanston Ave\, Arlington Heights\, IL 60004\, USA
URL;VALUE=URI:https://www.nsseo.org/professional-learning/calendar/8835217/
 nsseo-advanced-nvci-refresher
DTSTART:20260202T140000Z
DTEND:20260202T180000Z
END:VEVENT
END:VCALENDAR
