BEGIN:VCALENDAR
VERSION:2.0
PRODID:SchoolNow
CALSCALE:GREGORIAN
BEGIN:VEVENT
UID:559c8890-f634-11f0-9fc5-0a58a9feac02
DTSTAMP:20260421T130510Z
SUMMARY:APE Job Alike - Meeting 2
LOCATION:Northwest Suburban Special Education Organization\, 799 W Kensingt
 on Rd\, Mt Prospect\, IL 60056\, USA
URL;VALUE=URI:https://www.nsseo.org/professional-learning/calendar/8838166/
 ape-job-alike-meeting-2
DTSTART:20260206T150000Z
DTEND:20260206T170000Z
END:VEVENT
END:VCALENDAR
