BEGIN:VCALENDAR
VERSION:2.0
PRODID:SchoolNow
CALSCALE:GREGORIAN
BEGIN:VEVENT
UID:3658ae80-f898-11f0-8684-0a58a9feac02
DTSTAMP:20260421T130510Z
SUMMARY:Reveal Their Story: Using the MIGDAS-2 Strength-Based Approach to A
 utism Assessments in Schools
LOCATION:Palatine School District 15\, 580 N 1st Bank Dr\, Palatine\, IL 60
 067\, USA
URL;VALUE=URI:https://www.nsseo.org/professional-learning/calendar/8839934/
 reveal-their-story-using-the-migdas-2-strength-based-approach-to-autism-as
 sessments-in-schools
DTSTART:20260302T143000Z
DTEND:20260302T173000Z
END:VEVENT
END:VCALENDAR
