BEGIN:VCALENDAR
VERSION:2.0
PRODID:SchoolNow
CALSCALE:GREGORIAN
BEGIN:VEVENT
UID:f879e09e-fd5f-11f0-a3e1-0e1ce1f2bcdb
DTSTAMP:20260421T130510Z
SUMMARY:Cognitive Coaching Day 5
LOCATION:Community Consolidated School District 21\, 959 W Dundee Rd\, Whee
 ling\, IL 60090\, USA
URL;VALUE=URI:https://www.nsseo.org/professional-learning/calendar/8846723/
 cognitive-coaching-day-5
DTSTART:20260224T143000Z
DTEND:20260224T213000Z
END:VEVENT
END:VCALENDAR
