BEGIN:VCALENDAR
VERSION:2.0
PRODID:SchoolNow
CALSCALE:GREGORIAN
BEGIN:VEVENT
UID:f87a092a-fd5f-11f0-92ab-0e1ce1f2bcdb
DTSTAMP:20260421T130510Z
SUMMARY:Cognitive Coaching Day 6
LOCATION:Community Consolidated School District 21\, 959 W Dundee Rd\, Whee
 ling\, IL 60090\, USA
URL;VALUE=URI:https://www.nsseo.org/professional-learning/calendar/8846724/
 cognitive-coaching-day-6
DTSTART:20260225T143000Z
DTEND:20260225T213000Z
END:VEVENT
END:VCALENDAR
