BEGIN:VCALENDAR
VERSION:2.0
PRODID:SchoolNow
CALSCALE:GREGORIAN
BEGIN:VEVENT
UID:c7641322-0128-11f1-b148-02d418a07a83
DTSTAMP:20260421T130510Z
SUMMARY:Kirk School Institute Day
LOCATION:Kirk School\, 520 S Plum Grove Rd\, Palatine\, IL 60067\, USA
URL;VALUE=URI:https://www.nsseo.org/professional-learning/calendar/8848692/
 kirk-school-institute-day
DTSTART:20260206T143000Z
DTEND:20260206T213000Z
END:VEVENT
END:VCALENDAR
