BEGIN:VCALENDAR
VERSION:2.0
PRODID:SchoolNow
CALSCALE:GREGORIAN
BEGIN:VEVENT
UID:c76437a8-0128-11f1-bf63-02d418a07a83
DTSTAMP:20260421T070010Z
SUMMARY:NSSEO New Staff NVCI Initial Training - Day 2
LOCATION:Kirk School\, 520 S Plum Grove Rd\, Palatine\, IL 60067\, USA
URL;VALUE=URI:https://www.nsseo.org/professional-learning/calendar/8848693/
 nsseo-new-staff-nvci-initial-training-day-2
DTSTART:20260224T140000Z
DTEND:20260224T180000Z
END:VEVENT
END:VCALENDAR
