BEGIN:VCALENDAR
VERSION:2.0
PRODID:SchoolNow
CALSCALE:GREGORIAN
BEGIN:VEVENT
UID:c76439ba-0128-11f1-b7f8-02d418a07a83
DTSTAMP:20260421T130510Z
SUMMARY:Miner School Institute Day
LOCATION:Miner School\, 1101 E Miner St\, Arlington Heights\, IL 60004\, US
 A
URL;VALUE=URI:https://www.nsseo.org/professional-learning/calendar/8848694/
 miner-school-institute-day
DTSTART:20260206T143000Z
DTEND:20260206T213000Z
END:VEVENT
END:VCALENDAR
