BEGIN:VCALENDAR
VERSION:2.0
PRODID:SchoolNow
CALSCALE:GREGORIAN
BEGIN:VEVENT
UID:c7643b0e-0128-11f1-a3a8-02d418a07a83
DTSTAMP:20260421T130510Z
SUMMARY:Timber Ridge School Institute Day
LOCATION:NSSEO-Northwest Suburban Special Education Organization: Timber Ri
 dge\, 201 S Evanston Ave\, Arlington Heights\, IL 60004\, USA
URL;VALUE=URI:https://www.nsseo.org/professional-learning/calendar/8848695/
 timber-ridge-school-institute-day
DTSTART:20260206T143000Z
DTEND:20260206T213000Z
END:VEVENT
END:VCALENDAR
