BEGIN:VCALENDAR
VERSION:2.0
PRODID:SchoolNow
CALSCALE:GREGORIAN
BEGIN:VEVENT
UID:c76440c2-0128-11f1-a31c-02d418a07a83
DTSTAMP:20260421T130510Z
SUMMARY:NSSEO New Staff NVCI Initial Training - Day 1
LOCATION:Kirk School\, 520 S Plum Grove Rd\, Palatine\, IL 60067\, USA
URL;VALUE=URI:https://www.nsseo.org/professional-learning/calendar/8848696/
 nsseo-new-staff-nvci-initial-training-day-1
DTSTART:20260223T140000Z
DTEND:20260223T203000Z
END:VEVENT
END:VCALENDAR
