BEGIN:VCALENDAR
VERSION:2.0
PRODID:SchoolNow
CALSCALE:GREGORIAN
BEGIN:VEVENT
UID:ba4039c8-0227-11f1-b0e5-0affd61cb8b3
DTSTAMP:20260421T130510Z
SUMMARY:Trauma Informed Classrooms - Miner Schools
LOCATION:Miner School\, 1101 E Miner St\, Arlington Heights\, IL 60004\, US
 A
URL;VALUE=URI:https://www.nsseo.org/professional-learning/calendar/8849792/
 trauma-informed-classrooms-miner-schools
DTSTART:20260212T143000Z
DTEND:20260212T153000Z
END:VEVENT
END:VCALENDAR
