BEGIN:VCALENDAR
VERSION:2.0
PRODID:SchoolNow
CALSCALE:GREGORIAN
BEGIN:VEVENT
UID:a84b64fc-038c-11f1-a04f-0a58a9feac02
DTSTAMP:20260421T130510Z
SUMMARY:Miner School: Literacy Onboarding for New Staff Session 5: Shared W
 riting
LOCATION:Miner School\, 1101 E Miner St\, Arlington Heights\, IL 60004\, US
 A
URL;VALUE=URI:https://www.nsseo.org/professional-learning/calendar/8850732/
 miner-school-literacy-onboarding-for-new-staff-session-5-shared-writing
DTSTART:20260218T143000Z
DTEND:20260218T151500Z
END:VEVENT
END:VCALENDAR
