BEGIN:VCALENDAR
VERSION:2.0
PRODID:SchoolNow
CALSCALE:GREGORIAN
BEGIN:VEVENT
UID:a84b8a22-038c-11f1-8fa7-0a58a9feac02
DTSTAMP:20260421T130510Z
SUMMARY:Interoception Foundation for Early Communication: Supporting Presch
 oolers\, Non-Speaking Children & Beyond
LOCATION:Kirk School\, 520 S Plum Grove Rd\, Palatine\, IL 60067\, USA
URL;VALUE=URI:https://www.nsseo.org/professional-learning/calendar/8850733/
 interoception-foundation-for-early-communication-supporting-preschoolers-n
 on-speaking-children-beyond
DTSTART:20260206T183000Z
DTEND:20260206T203000Z
END:VEVENT
END:VCALENDAR
