BEGIN:VCALENDAR
VERSION:2.0
PRODID:SchoolNow
CALSCALE:GREGORIAN
BEGIN:VEVENT
UID:5ff09792-0920-11f1-8cca-0264f7bacfb5
DTSTAMP:20260421T130510Z
SUMMARY:NVCI Initial Training Day 1
LOCATION:TBD
URL;VALUE=URI:https://www.nsseo.org/professional-learning/calendar/8855322/
 nvci-initial-training-day-1
DTSTART:20260805T133000Z
DTEND:20260805T203000Z
END:VEVENT
END:VCALENDAR
