BEGIN:VCALENDAR
VERSION:2.0
PRODID:SchoolNow
CALSCALE:GREGORIAN
BEGIN:VEVENT
UID:5ff0d586-0920-11f1-949a-0264f7bacfb5
DTSTAMP:20260421T130510Z
SUMMARY:Creating Trauma Informed Classrooms
URL;VALUE=URI:https://www.nsseo.org/professional-learning/calendar/8855324/
 creating-trauma-informed-classrooms
DTSTART:20260804T130000Z
DTEND:20260804T170000Z
END:VEVENT
END:VCALENDAR
