BEGIN:VCALENDAR
VERSION:2.0
PRODID:SchoolNow
CALSCALE:GREGORIAN
BEGIN:VEVENT
UID:5ff0d874-0920-11f1-b88b-0264f7bacfb5
DTSTAMP:20260421T130510Z
SUMMARY:NSSEO NVCI Advanced Refresher - Central Office
LOCATION:Northwest Suburban Special Education Organization\, 799 W Kensingt
 on Rd\, Mt Prospect\, IL 60056\, USA
URL;VALUE=URI:https://www.nsseo.org/professional-learning/calendar/8855325/
 nsseo-nvci-advanced-refresher-central-office
DTSTART:20260707T130000Z
DTEND:20260707T210000Z
END:VEVENT
END:VCALENDAR
