BEGIN:VCALENDAR
VERSION:2.0
PRODID:SchoolNow
CALSCALE:GREGORIAN
BEGIN:VEVENT
UID:5ff0dacc-0920-11f1-8b51-0264f7bacfb5
DTSTAMP:20260421T130510Z
SUMMARY:Creating Trauma Informed Trainings
LOCATION:TBD
URL;VALUE=URI:https://www.nsseo.org/professional-learning/calendar/8855326/
 creating-trauma-informed-trainings
DTSTART:20260806T163000Z
DTEND:20260806T203000Z
END:VEVENT
END:VCALENDAR
